Package: flagme Version: 1.66.0 Command: /home/biocbuild/bbs-3.22-bioc/R/bin/R CMD INSTALL flagme StartedAt: 2025-11-11 15:49:24 -0500 (Tue, 11 Nov 2025) EndedAt: 2025-11-11 15:50:13 -0500 (Tue, 11 Nov 2025) EllapsedTime: 49.2 seconds RetCode: 0 Status: OK