Package: flagme Version: 1.66.0 Command: /home/biocbuild/bbs-3.22-bioc/R/bin/R CMD check --install=check:flagme.install-out.txt --library=/home/biocbuild/bbs-3.22-bioc/R/site-library --timings flagme_1.66.0.tar.gz StartedAt: 2025-11-14 23:47:54 -0500 (Fri, 14 Nov 2025) EndedAt: 2025-11-15 00:04:59 -0500 (Sat, 15 Nov 2025) EllapsedTime: 1024.3 seconds RetCode: 0 Status: WARNINGS CheckDir: flagme.Rcheck Warnings: 2