Package: flagme Version: 1.66.0 Command: /home/biocbuild/bbs-3.22-bioc/R/bin/R CMD build --keep-empty-dirs --no-resave-data --md5 flagme StartedAt: 2025-11-11 17:43:55 -0500 (Tue, 11 Nov 2025) EndedAt: 2025-11-11 17:47:20 -0500 (Tue, 11 Nov 2025) EllapsedTime: 204.3 seconds RetCode: 0 Status: OK PackageFile: flagme_1.66.0.tar.gz PackageFileSize: 728.1 KiB