Package: flagme Version: 1.66.0 Command: /Library/Frameworks/R.framework/Resources/bin/R CMD INSTALL flagme StartedAt: 2025-11-03 15:37:45 -0500 (Mon, 03 Nov 2025) EndedAt: 2025-11-03 15:38:52 -0500 (Mon, 03 Nov 2025) EllapsedTime: 67.7 seconds RetCode: 0 Status: OK