Package: flagme Version: 1.64.0 Command: /home/biocbuild/R/R/bin/R CMD INSTALL flagme StartedAt: 2025-10-13 21:05:36 -0000 (Mon, 13 Oct 2025) EndedAt: 2025-10-13 21:06:47 -0000 (Mon, 13 Oct 2025) EllapsedTime: 71.0 seconds RetCode: 0 Status: OK