Package: flagme Version: 1.64.0 Command: /home/biocbuild/R/R/bin/R CMD build --keep-empty-dirs --no-resave-data flagme StartedAt: 2025-10-14 00:52:38 -0000 (Tue, 14 Oct 2025) EndedAt: 2025-10-14 00:57:32 -0000 (Tue, 14 Oct 2025) EllapsedTime: 294.1 seconds RetCode: 0 Status: OK PackageFile: flagme_1.64.0.tar.gz PackageFileSize: 703.2 KiB