############################################################################## ############################################################################## ### ### Running command: ### ### /Library/Frameworks/R.framework/Resources/bin/R CMD build --keep-empty-dirs --no-resave-data flagme ### ############################################################################## ############################################################################## * checking for file ‘flagme/DESCRIPTION’ ... OK * preparing ‘flagme’: * checking DESCRIPTION meta-information ... OK * cleaning src * installing the package to build vignettes ----------------------------------- ERROR: dependencies ‘xcms’, ‘CAMERA’ are not available for package ‘flagme’ Perhaps try a variation of: install.packages(c('xcms', 'CAMERA')) * removing ‘/private/var/folders/r0/l4fjk6cj5xj0j3brt4bplpl40000gt/T/RtmpdcjVEA/Rinst5b3f54e91457/flagme’ ----------------------------------- ERROR: package installation failed