Package: findIPs Version: 1.6.0 Command: /home/biocbuild/bbs-3.22-bioc/R/bin/R CMD build --keep-empty-dirs --no-resave-data --md5 findIPs StartedAt: 2025-11-11 17:43:09 -0500 (Tue, 11 Nov 2025) EndedAt: 2025-11-11 17:47:40 -0500 (Tue, 11 Nov 2025) EllapsedTime: 270.3 seconds RetCode: 0 Status: OK PackageFile: findIPs_1.6.0.tar.gz PackageFileSize: 2.499 MiB