Package: findIPs Version: 1.4.0 Command: /home/biocbuild/R/R/bin/R CMD INSTALL findIPs StartedAt: 2025-10-13 20:34:21 -0000 (Mon, 13 Oct 2025) EndedAt: 2025-10-13 20:34:49 -0000 (Mon, 13 Oct 2025) EllapsedTime: 28.2 seconds RetCode: 0 Status: OK