Package: findIPs Version: 1.4.0 Command: /home/biocbuild/R/R/bin/R CMD build --keep-empty-dirs --no-resave-data findIPs StartedAt: 2025-10-14 00:51:56 -0000 (Tue, 14 Oct 2025) EndedAt: 2025-10-14 00:58:56 -0000 (Tue, 14 Oct 2025) EllapsedTime: 419.1 seconds RetCode: 0 Status: OK PackageFile: findIPs_1.4.0.tar.gz PackageFileSize: 2.318 MiB