Package: findIPs Version: 1.6.0 Command: /Library/Frameworks/R.framework/Resources/bin/R CMD INSTALL findIPs StartedAt: 2025-10-31 15:17:35 -0400 (Fri, 31 Oct 2025) EndedAt: 2025-10-31 15:17:43 -0400 (Fri, 31 Oct 2025) EllapsedTime: 8.5 seconds RetCode: 0 Status: OK