Package: fgsea Version: 1.36.0 Command: /home/biocbuild/bbs-3.22-bioc/R/bin/R CMD build --keep-empty-dirs --no-resave-data --md5 fgsea StartedAt: 2025-11-17 21:00:22 -0500 (Mon, 17 Nov 2025) EndedAt: 2025-11-17 21:08:29 -0500 (Mon, 17 Nov 2025) EllapsedTime: 487.5 seconds RetCode: 0 Status: OK PackageFile: fgsea_1.36.0.tar.gz PackageFileSize: 5.881 MiB