Package: fgga Version: 1.18.0 Command: /home/biocbuild/bbs-3.22-bioc/R/bin/R CMD build --keep-empty-dirs --no-resave-data --md5 fgga StartedAt: 2025-11-17 21:00:02 -0500 (Mon, 17 Nov 2025) EndedAt: 2025-11-17 21:00:52 -0500 (Mon, 17 Nov 2025) EllapsedTime: 50.0 seconds RetCode: 0 Status: OK PackageFile: fgga_1.18.0.tar.gz PackageFileSize: 1.438 MiB