Package: ffpe Version: 1.54.0 Command: /home/biocbuild/bbs-3.22-bioc/R/bin/R CMD INSTALL ffpe StartedAt: 2025-11-16 16:06:48 -0500 (Sun, 16 Nov 2025) EndedAt: 2025-11-16 16:07:37 -0500 (Sun, 16 Nov 2025) EllapsedTime: 48.3 seconds RetCode: 0 Status: OK