Package: ffpe Version: 1.54.0 Command: /home/biocbuild/bbs-3.22-bioc/R/bin/R CMD build --keep-empty-dirs --no-resave-data --md5 ffpe StartedAt: 2025-11-16 17:44:49 -0500 (Sun, 16 Nov 2025) EndedAt: 2025-11-16 17:46:01 -0500 (Sun, 16 Nov 2025) EllapsedTime: 72.1 seconds RetCode: 0 Status: OK PackageFile: ffpe_1.54.0.tar.gz PackageFileSize: 268.3 KiB