Package: fenr Version: 1.6.2 Command: /home/biocbuild/R/R/bin/R CMD INSTALL fenr StartedAt: 2025-10-13 20:20:30 -0000 (Mon, 13 Oct 2025) EndedAt: 2025-10-13 20:20:35 -0000 (Mon, 13 Oct 2025) EllapsedTime: 4.3 seconds RetCode: 0 Status: OK