Package: fenr Version: 1.6.2 Command: /home/biocbuild/R/R/bin/R CMD build --keep-empty-dirs --no-resave-data fenr StartedAt: 2025-10-14 00:51:21 -0000 (Tue, 14 Oct 2025) EndedAt: 2025-10-14 00:51:57 -0000 (Tue, 14 Oct 2025) EllapsedTime: 36.0 seconds RetCode: 0 Status: OK PackageFile: fenr_1.6.2.tar.gz PackageFileSize: 2.062 MiB