Package: fenr Version: 1.8.0 Command: /Library/Frameworks/R.framework/Resources/bin/R CMD INSTALL fenr StartedAt: 2025-11-03 15:05:16 -0500 (Mon, 03 Nov 2025) EndedAt: 2025-11-03 15:05:18 -0500 (Mon, 03 Nov 2025) EllapsedTime: 1.8 seconds RetCode: 0 Status: OK