Package: fenr Version: 1.8.0 Command: /Library/Frameworks/R.framework/Resources/bin/R CMD build --keep-empty-dirs --no-resave-data fenr StartedAt: 2025-11-03 16:23:56 -0500 (Mon, 03 Nov 2025) EndedAt: 2025-11-03 16:24:07 -0500 (Mon, 03 Nov 2025) EllapsedTime: 11.1 seconds RetCode: 0 Status: OK PackageFile: fenr_1.8.0.tar.gz PackageFileSize: 1.996 MiB