Package: fenr Version: 1.8.0 Command: rm -rf fenr.buildbin-libdir && mkdir fenr.buildbin-libdir && /Users/biocbuild/BBS/utils/build-universal.sh fenr_1.8.0.tar.gz /Library/Frameworks/R.framework/Resources/bin/R fenr.buildbin-libdir StartedAt: 2025-10-31 23:06:57 -0400 (Fri, 31 Oct 2025) EndedAt: 2025-10-31 23:06:59 -0400 (Fri, 31 Oct 2025) EllapsedTime: 2.0 seconds RetCode: 0 Status: OK PackageFile: fenr_1.8.0.tgz PackageFileSize: 1.818 MiB