Package: fedup Version: 1.18.0 Command: /home/biocbuild/bbs-3.22-bioc/R/bin/R CMD INSTALL fedup StartedAt: 2025-11-16 15:13:45 -0500 (Sun, 16 Nov 2025) EndedAt: 2025-11-16 15:13:54 -0500 (Sun, 16 Nov 2025) EllapsedTime: 9.4 seconds RetCode: 0 Status: OK