Package: fdrame Version: 1.82.0 Command: /home/biocbuild/R/R/bin/R CMD INSTALL fdrame StartedAt: 2025-11-13 21:06:14 -0000 (Thu, 13 Nov 2025) EndedAt: 2025-11-13 21:06:58 -0000 (Thu, 13 Nov 2025) EllapsedTime: 44.4 seconds RetCode: 0 Status: OK