Package: fdrame Version: 1.82.0 Command: /home/biocbuild/bbs-3.22-bioc/R/bin/R CMD INSTALL fdrame StartedAt: 2025-11-11 15:08:45 -0500 (Tue, 11 Nov 2025) EndedAt: 2025-11-11 15:09:14 -0500 (Tue, 11 Nov 2025) EllapsedTime: 28.5 seconds RetCode: 0 Status: OK