Package: fdrame Version: 1.80.0 Command: /home/biocbuild/bbs-3.21-bioc/R/bin/R CMD INSTALL fdrame StartedAt: 2025-10-15 15:04:13 -0400 (Wed, 15 Oct 2025) EndedAt: 2025-10-15 15:04:40 -0400 (Wed, 15 Oct 2025) EllapsedTime: 27.2 seconds RetCode: 0 Status: OK