Package: fdrame Version: 1.80.0 Command: /home/biocbuild/bbs-3.21-bioc/R/bin/R CMD build --keep-empty-dirs --no-resave-data fdrame StartedAt: 2025-10-15 17:30:12 -0400 (Wed, 15 Oct 2025) EndedAt: 2025-10-15 17:30:19 -0400 (Wed, 15 Oct 2025) EllapsedTime: 7.0 seconds RetCode: 0 Status: OK PackageFile: fdrame_1.80.0.tar.gz PackageFileSize: 972.5 KiB