Package: fdrame Version: 1.80.0 Command: /Library/Frameworks/R.framework/Resources/bin/R CMD build --keep-empty-dirs --no-resave-data fdrame StartedAt: 2025-10-14 00:18:01 -0400 (Tue, 14 Oct 2025) EndedAt: 2025-10-14 00:18:11 -0400 (Tue, 14 Oct 2025) EllapsedTime: 10.3 seconds RetCode: 0 Status: OK PackageFile: fdrame_1.80.0.tar.gz PackageFileSize: 972.6 KiB