Package: fcScan Version: 1.24.0 Command: /home/biocbuild/bbs-3.22-bioc/R/bin/R CMD INSTALL fcScan StartedAt: 2025-11-11 15:45:09 -0500 (Tue, 11 Nov 2025) EndedAt: 2025-11-11 15:45:47 -0500 (Tue, 11 Nov 2025) EllapsedTime: 38.8 seconds RetCode: 0 Status: OK