Package: fcScan Version: 1.24.0 Command: /home/biocbuild/bbs-3.22-bioc/R/bin/R CMD check --install=check:fcScan.install-out.txt --library=/home/biocbuild/bbs-3.22-bioc/R/site-library --timings fcScan_1.24.0.tar.gz StartedAt: 2025-11-11 23:41:46 -0500 (Tue, 11 Nov 2025) EndedAt: 2025-11-11 23:46:43 -0500 (Tue, 11 Nov 2025) EllapsedTime: 296.4 seconds RetCode: 0 Status: OK CheckDir: fcScan.Rcheck Warnings: 0