Package: fcScan Version: 1.24.0 Command: /home/biocbuild/bbs-3.22-bioc/R/bin/R CMD build --keep-empty-dirs --no-resave-data --md5 fcScan StartedAt: 2025-11-11 17:42:20 -0500 (Tue, 11 Nov 2025) EndedAt: 2025-11-11 17:43:14 -0500 (Tue, 11 Nov 2025) EllapsedTime: 54.1 seconds RetCode: 0 Status: OK PackageFile: fcScan_1.24.0.tar.gz PackageFileSize: 242.2 KiB