Package: fcScan Version: 1.22.0 Command: /home/biocbuild/R/R/bin/R CMD INSTALL fcScan StartedAt: 2025-09-25 20:56:42 -0000 (Thu, 25 Sep 2025) EndedAt: 2025-09-25 20:57:37 -0000 (Thu, 25 Sep 2025) EllapsedTime: 54.8 seconds RetCode: 0 Status: OK