Package: fcScan Version: 1.22.0 Command: /home/biocbuild/R/R/bin/R CMD build --keep-empty-dirs --no-resave-data fcScan StartedAt: 2025-09-26 01:26:49 -0000 (Fri, 26 Sep 2025) EndedAt: 2025-09-26 01:28:01 -0000 (Fri, 26 Sep 2025) EllapsedTime: 72.0 seconds RetCode: 0 Status: OK PackageFile: fcScan_1.22.0.tar.gz PackageFileSize: 268 KiB