Package: fcScan Version: 1.22.0 Command: /Library/Frameworks/R.framework/Resources/bin/R CMD INSTALL fcScan StartedAt: 2025-10-13 17:16:58 -0400 (Mon, 13 Oct 2025) EndedAt: 2025-10-13 17:17:44 -0400 (Mon, 13 Oct 2025) EllapsedTime: 45.8 seconds RetCode: 0 Status: OK