Package: fcScan Version: 1.22.0 Command: /Library/Frameworks/R.framework/Resources/bin/R CMD build --keep-empty-dirs --no-resave-data fcScan StartedAt: 2025-10-14 00:17:51 -0400 (Tue, 14 Oct 2025) EndedAt: 2025-10-14 00:18:57 -0400 (Tue, 14 Oct 2025) EllapsedTime: 66.0 seconds RetCode: 0 Status: OK PackageFile: fcScan_1.22.0.tar.gz PackageFileSize: 241.9 KiB