Package: fcScan Version: 1.22.0 Command: rm -rf fcScan.buildbin-libdir && mkdir fcScan.buildbin-libdir && /Users/biocbuild/BBS/utils/build-universal.sh fcScan_1.22.0.tar.gz /Library/Frameworks/R.framework/Resources/bin/R fcScan.buildbin-libdir StartedAt: 2025-10-15 18:29:18 -0400 (Wed, 15 Oct 2025) EndedAt: 2025-10-15 18:30:08 -0400 (Wed, 15 Oct 2025) EllapsedTime: 49.5 seconds RetCode: 0 Status: OK PackageFile: fcScan_1.22.0.tgz PackageFileSize: 272.1 KiB