Package: fcScan Version: 1.22.0 Maintainer: Pierre Khoueiry Abdullah El-Kurdi MaintainerEmail: ak161 at aub.edu.lb git_url: https://git.bioconductor.org/packages/fcScan git_branch: RELEASE_3_21 git_last_commit: 920191b git_last_commit_date: 2025-04-15 11:48:51 -0400 (Tue, 15 Apr 2025)