Package: fastseg Version: 1.56.0 Command: /home/biocbuild/R/R/bin/R CMD INSTALL fastseg StartedAt: 2025-11-13 21:32:19 -0000 (Thu, 13 Nov 2025) EndedAt: 2025-11-13 21:32:33 -0000 (Thu, 13 Nov 2025) EllapsedTime: 14.2 seconds RetCode: 0 Status: OK