Package: fastseg Version: 1.56.0 Command: /home/biocbuild/R/R/bin/R CMD build --keep-empty-dirs --no-resave-data fastseg StartedAt: 2025-11-14 01:47:15 -0000 (Fri, 14 Nov 2025) EndedAt: 2025-11-14 01:48:06 -0000 (Fri, 14 Nov 2025) EllapsedTime: 51.0 seconds RetCode: 0 Status: OK PackageFile: fastseg_1.56.0.tar.gz PackageFileSize: 545.1 KiB