Package: fastseg Version: 1.56.0 Command: /home/biocbuild/bbs-3.22-bioc/R/bin/R CMD INSTALL fastseg StartedAt: 2025-11-11 15:28:57 -0500 (Tue, 11 Nov 2025) EndedAt: 2025-11-11 15:29:07 -0500 (Tue, 11 Nov 2025) EllapsedTime: 10.2 seconds RetCode: 0 Status: OK