Package: fastseg Version: 1.56.0 Command: /home/biocbuild/bbs-3.22-bioc/R/bin/R CMD check --install=check:fastseg.install-out.txt --library=/home/biocbuild/bbs-3.22-bioc/R/site-library --timings fastseg_1.56.0.tar.gz StartedAt: 2025-11-11 23:41:08 -0500 (Tue, 11 Nov 2025) EndedAt: 2025-11-11 23:42:39 -0500 (Tue, 11 Nov 2025) EllapsedTime: 91.1 seconds RetCode: 0 Status: OK CheckDir: fastseg.Rcheck Warnings: 0