Package: fastseg Version: 1.54.0 Command: /Library/Frameworks/R.framework/Resources/bin/R CMD INSTALL fastseg StartedAt: 2025-10-13 15:44:45 -0400 (Mon, 13 Oct 2025) EndedAt: 2025-10-13 15:45:12 -0400 (Mon, 13 Oct 2025) EllapsedTime: 27.2 seconds RetCode: 0 Status: OK