Package: fastseg Version: 1.54.0 Command: /Library/Frameworks/R.framework/Resources/bin/R CMD build --keep-empty-dirs --no-resave-data fastseg StartedAt: 2025-10-13 19:01:40 -0400 (Mon, 13 Oct 2025) EndedAt: 2025-10-13 19:03:08 -0400 (Mon, 13 Oct 2025) EllapsedTime: 87.7 seconds RetCode: 0 Status: OK PackageFile: fastseg_1.54.0.tar.gz PackageFileSize: 728.1 KiB