Package: fastseg Version: 1.54.0 Command: rm -rf fastseg.buildbin-libdir && mkdir fastseg.buildbin-libdir && /Users/biocbuild/BBS/utils/build-universal.sh fastseg_1.54.0.tar.gz /Library/Frameworks/R.framework/Resources/bin/R fastseg.buildbin-libdir StartedAt: 2025-10-14 13:25:59 -0400 (Tue, 14 Oct 2025) EndedAt: 2025-10-14 13:26:42 -0400 (Tue, 14 Oct 2025) EllapsedTime: 43.0 seconds RetCode: 0 Status: OK PackageFile: fastseg_1.54.0.tgz PackageFileSize: 764.5 KiB