Package: fastreeR Version: 2.0.0 Command: /home/biocbuild/R/R/bin/R CMD INSTALL fastreeR StartedAt: 2025-11-17 21:09:45 -0000 (Mon, 17 Nov 2025) EndedAt: 2025-11-17 21:10:58 -0000 (Mon, 17 Nov 2025) EllapsedTime: 73.1 seconds RetCode: 0 Status: OK