Package: fastreeR Version: 2.0.0 Command: /home/biocbuild/R/R/bin/R CMD build --keep-empty-dirs --no-resave-data fastreeR StartedAt: 2025-11-18 01:34:34 -0000 (Tue, 18 Nov 2025) EndedAt: 2025-11-18 01:37:14 -0000 (Tue, 18 Nov 2025) EllapsedTime: 159.1 seconds RetCode: 0 Status: OK PackageFile: fastreeR_2.0.0.tar.gz PackageFileSize: 3.051 MiB