Package: fastreeR Version: 2.0.0 Command: /home/biocbuild/bbs-3.22-bioc/R/bin/R CMD check --install=check:fastreeR.install-out.txt --library=/home/biocbuild/bbs-3.22-bioc/R/site-library --timings fastreeR_2.0.0.tar.gz StartedAt: 2025-11-13 23:42:39 -0500 (Thu, 13 Nov 2025) EndedAt: 2025-11-13 23:45:06 -0500 (Thu, 13 Nov 2025) EllapsedTime: 147.2 seconds RetCode: 0 Status: OK CheckDir: fastreeR.Rcheck Warnings: 0