Package: fastreeR Version: 2.0.0 Command: /home/biocbuild/bbs-3.22-bioc/R/bin/R CMD build --keep-empty-dirs --no-resave-data --md5 fastreeR StartedAt: 2025-11-11 17:41:49 -0500 (Tue, 11 Nov 2025) EndedAt: 2025-11-11 17:44:00 -0500 (Tue, 11 Nov 2025) EllapsedTime: 131.2 seconds RetCode: 0 Status: OK PackageFile: fastreeR_2.0.0.tar.gz PackageFileSize: 3.69 MiB