Package: fastreeR Version: 1.12.5 Command: /home/biocbuild/bbs-3.21-bioc/R/bin/R CMD build --keep-empty-dirs --no-resave-data fastreeR StartedAt: 2025-10-15 17:29:09 -0400 (Wed, 15 Oct 2025) EndedAt: 2025-10-15 17:29:57 -0400 (Wed, 15 Oct 2025) EllapsedTime: 48.0 seconds RetCode: 0 Status: OK PackageFile: fastreeR_1.12.5.tar.gz PackageFileSize: 3.154 MiB