Package: fastreeR Version: 2.0.0 Command: /Library/Frameworks/R.framework/Resources/bin/R CMD INSTALL fastreeR StartedAt: 2025-10-30 15:08:11 -0400 (Thu, 30 Oct 2025) EndedAt: 2025-10-30 15:09:00 -0400 (Thu, 30 Oct 2025) EllapsedTime: 48.7 seconds RetCode: 0 Status: OK