Package: fastreeR Version: 2.0.0 Command: rm -rf fastreeR.buildbin-libdir && mkdir fastreeR.buildbin-libdir && /Users/biocbuild/BBS/utils/build-universal.sh fastreeR_2.0.0.tar.gz /Library/Frameworks/R.framework/Resources/bin/R fastreeR.buildbin-libdir StartedAt: 2025-10-31 01:24:39 -0400 (Fri, 31 Oct 2025) EndedAt: 2025-10-31 01:24:45 -0400 (Fri, 31 Oct 2025) EllapsedTime: 5.9 seconds RetCode: 0 Status: OK PackageFile: fastreeR_2.0.0.tgz PackageFileSize: 3.437 MiB