Package: fastreeR Version: 1.12.5 Command: /home/biocbuild/R/R/bin/R CMD INSTALL fastreeR StartedAt: 2025-09-29 20:18:35 -0000 (Mon, 29 Sep 2025) EndedAt: 2025-09-29 20:19:26 -0000 (Mon, 29 Sep 2025) EllapsedTime: 50.7 seconds RetCode: 0 Status: OK